Workbook

Sheet 社会消费品零售额趋势图

Sheet 数据表格
B2: =B4-1&"年"&C4&"月—"&B4&"年"&C4&"月社会消费品零售额基础数据" -> 2024年6月—2025年6月社会消费品零售额基础数据
B3: 年份 | C3: 月份 | D3: 指标名称 | E3: =$B$4-1&"年"&CHAR(10)&"1-"&$C$4&"月" -> 2024年 1-6月 | F3: =IF((MID(E3,FIND("-",E3,1)+1,(FIND("月",E3,1)-FIND("-",E3,1)-1)))*1=12,($B$4&"年"&CHAR(10)&"1-"&2&"月"),IF(LEFT(E3,4)*1=$B4-1,LEFT(E3,8)&MID(E3,FIND("-",E3,1)+1,(FIND("月",E3,1)-FIND("-",E3,1)-1))+1&"月",$B$4&"年"&CHAR(10)&"1-"&MID(E3,FIND("-",E3,1)+1,(FIND("月",E3,1)-FIND("-",E3,1)-1))+1&"月")) -> 2024年 1-7月 | G3: =IF((MID(F3,FIND("-",F3,1)+1,(FIND("月",F3,1)-FIND("-",F3,1)-1)))*1=12,($B$4&"年"&CHAR(10)&"1-"&2&"月"),IF(LEFT(F3,4)*1=$B4-1,LEFT(F3,8)&MID(F3,FIND("-",F3,1)+1,(FIND("月",F3,1)-FIND("-",F3,1)-1))+1&"月",$B$4&"年"&CHAR(10)&"1-"&MID(F3,FIND("-",F3,1)+1,(FIND("月",F3,1)-FIND("-",F3,1)-1))+1&"月")) -> 2024年 1-8月 | H3: =IF((MID(G3,FIND("-",G3,1)+1,(FIND("月",G3,1)-FIND("-",G3,1)-1)))*1=12,($B$4&"年"&CHAR(10)&"1-"&2&"月"),IF(LEFT(G3,4)*1=$B4-1,LEFT(G3,8)&MID(G3,FIND("-",G3,1)+1,(FIND("月",G3,1)-FIND("-",G3,1)-1))+1&"月",$B$4&"年"&CHAR(10)&"1-"&MID(G3,FIND("-",G3,1)+1,(FIND("月",G3,1)-FIND("-",G3,1)-1))+1&"月")) -> 2024年 1-9月 | I3: =IF((MID(H3,FIND("-",H3,1)+1,(FIND("月",H3,1)-FIND("-",H3,1)-1)))*1=12,($B$4&"年"&CHAR(10)&"1-"&2&"月"),IF(LEFT(H3,4)*1=$B4-1,LEFT(H3,8)&MID(H3,FIND("-",H3,1)+1,(FIND("月",H3,1)-FIND("-",H3,1)-1))+1&"月",$B$4&"年"&CHAR(10)&"1-"&MID(H3,FIND("-",H3,1)+1,(FIND("月",H3,1)-FIND("-",H3,1)-1))+1&"月")) -> 2024年 1-10月 | J3: =IF((MID(I3,FIND("-",I3,1)+1,(FIND("月",I3,1)-FIND("-",I3,1)-1)))*1=12,($B$4&"年"&CHAR(10)&"1-"&2&"月"),IF(LEFT(I3,4)*1=$B4-1,LEFT(I3,8)&MID(I3,FIND("-",I3,1)+1,(FIND("月",I3,1)-FIND("-",I3,1)-1))+1&"月",$B$4&"年"&CHAR(10)&"1-"&MID(I3,FIND("-",I3,1)+1,(FIND("月",I3,1)-FIND("-",I3,1)-1))+1&"月")) -> 2024年 1-11月 | K3: =IF((MID(J3,FIND("-",J3,1)+1,(FIND("月",J3,1)-FIND("-",J3,1)-1)))*1=12,($B$4&"年"&CHAR(10)&"1-"&2&"月"),IF(LEFT(J3,4)*1=$B4-1,LEFT(J3,8)&MID(J3,FIND("-",J3,1)+1,(FIND("月",J3,1)-FIND("-",J3,1)-1))+1&"月",$B$4&"年"&CHAR(10)&"1-"&MID(J3,FIND("-",J3,1)+1,(FIND("月",J3,1)-FIND("-",J3,1)-1))+1&"月")) -> 2024年 1-12月 | L3: =IF((MID(K3,FIND("-",K3,1)+1,(FIND("月",K3,1)-FIND("-",K3,1)-1)))*1=12,($B$4&"年"&CHAR(10)&"1-"&2&"月"),IF(LEFT(K3,4)*1=$B4-1,LEFT(K3,8)&MID(K3,FIND("-",K3,1)+1,(FIND("月",K3,1)-FIND("-",K3,1)-1))+1&"月",$B$4&"年"&CHAR(10)&"1-"&MID(K3,FIND("-",K3,1)+1,(FIND("月",K3,1)-FIND("-",K3,1)-1))+1&"月")) -> 2025年 1-2月 | M3: =IF((MID(L3,FIND("-",L3,1)+1,(FIND("月",L3,1)-FIND("-",L3,1)-1)))*1=12,($B$4&"年"&CHAR(10)&"1-"&2&"月"),IF(LEFT(L3,4)*1=$B4-1,LEFT(L3,8)&MID(L3,FIND("-",L3,1)+1,(FIND("月",L3,1)-FIND("-",L3,1)-1))+1&"月",$B$4&"年"&CHAR(10)&"1-"&MID(L3,FIND("-",L3,1)+1,(FIND("月",L3,1)-FIND("-",L3,1)-1))+1&"月")) -> 2025年 1-3月 | ... P3: =IF((MID(O3,FIND("-",O3,1)+1,(FIND("月",O3,1)-FIND("-",O3,1)-1)))*1=12,($B$4&"年"&CHAR(10)&"1-"&2&"月"),IF(LEFT(O3,4)*1=$B4-1,LEFT(O3,8)&MID(O3,FIND("-",O3,1)+1,(FIND("月",O3,1)-FIND("-",O3,1)-1))+1&"月",$B$4&"年"&CHAR(10)&"1-"&MID(O3,FIND("-",O3,1)+1,(FIND("月",O3,1)-FIND("-",O3,1)-1))+1&"月")) -> 2025年 1-6月
B4: 2025 | C4: 6 | D4: 社会消费品零售额（亿元） | E4: =INDEX([1]社消零额数据归集!$B:$B,MATCH(LEFT(E3,5)&MID(E3,FIND("年",E3,1)+2,LEN(E3)),[1]社消零额数据归集!$A:$A,0))/10000 -> 52.58238 | F4: =INDEX([1]社消零额数据归集!$B:$B,MATCH(LEFT(F3,5)&MID(F3,FIND("年",F3,1)+2,LEN(F3)),[1]社消零额数据归集!$A:$A,0))/10000 -> 59.66948 | G4: =INDEX([1]社消零额数据归集!$B:$B,MATCH(LEFT(G3,5)&MID(G3,FIND("年",G3,1)+2,LEN(G3)),[1]社消零额数据归集!$A:$A,0))/10000 -> 68.58313 | H4: =INDEX([1]社消零额数据归集!$B:$B,MATCH(LEFT(H3,5)&MID(H3,FIND("年",H3,1)+2,LEN(H3)),[1]社消零额数据归集!$A:$A,0))/10000 -> 78.76212 | I4: =INDEX([1]社消零额数据归集!$B:$B,MATCH(LEFT(I3,5)&MID(I3,FIND("年",I3,1)+2,LEN(I3)),[1]社消零额数据归集!$A:$A,0))/10000 -> 88.96828 | J4: =INDEX([1]社消零额数据归集!$B:$B,MATCH(LEFT(J3,5)&MID(J3,FIND("年",J3,1)+2,LEN(J3)),[1]社消零额数据归集!$A:$A,0))/10000 -> 99.6404 | K4: =INDEX([1]社消零额数据归集!$B:$B,MATCH(LEFT(K3,5)&MID(K3,FIND("年",K3,1)+2,LEN(K3)),[1]社消零额数据归集!$A:$A,0))/10000 -> 110.73156 | L4: =INDEX([1]社消零额数据归集!$B:$B,MATCH(LEFT(L3,5)&MID(L3,FIND("年",L3,1)+2,LEN(L3)),[1]社消零额数据归集!$A:$A,0))/10000 -> 12.25854 | ... P4: =INDEX([1]社消零额数据归集!$B:$B,MATCH(LEFT(P3,5)&MID(P3,FIND("年",P3,1)+2,LEN(P3)),[1]社消零额数据归集!$A:$A,0))/10000 -> 34.5586
D5: 增速% | E5: =INDEX([1]社消零额数据归集!$B:$B,MATCH(LEFT(E3,5)&MID(E3,FIND("年",E3,1)+2,LEN(E3)),[1]社消零额数据归集!$A:$A,0))/INDEX([1]社消零额数据归集!$C:$C,MATCH(LEFT(E3,5)&MID(E3,FIND("年",E3,1)+2,LEN(E3)),[1]社消零额数据归集!$A:$A,0))*100-100 -> 0.73372519 | F5: =INDEX([1]社消零额数据归集!$B:$B,MATCH(LEFT(F3,5)&MID(F3,FIND("年",F3,1)+2,LEN(F3)),[1]社消零额数据归集!$A:$A,0))/INDEX([1]社消零额数据归集!$C:$C,MATCH(LEFT(F3,5)&MID(F3,FIND("年",F3,1)+2,LEN(F3)),[1]社消零额数据归集!$A:$A,0))*100-100 -> 0.12328007 | G5: =INDEX([1]社消零额数据归集!$B:$B,MATCH(LEFT(G3,5)&MID(G3,FIND("年",G3,1)+2,LEN(G3)),[1]社消零额数据归集!$A:$A,0))/INDEX([1]社消零额数据归集!$C:$C,MATCH(LEFT(G3,5)&MID(G3,FIND("年",G3,1)+2,LEN(G3)),[1]社消零额数据归集!$A:$A,0))*100-100 -> 0.26686904 | H5: =INDEX([1]社消零额数据归集!$B:$B,MATCH(LEFT(H3,5)&MID(H3,FIND("年",H3,1)+2,LEN(H3)),[1]社消零额数据归集!$A:$A,0))/INDEX([1]社消零额数据归集!$C:$C,MATCH(LEFT(H3,5)&MID(H3,FIND("年",H3,1)+2,LEN(H3)),[1]社消零额数据归集!$A:$A,0))*100-100 -> -0.34402906 | I5: =INDEX([1]社消零额数据归集!$B:$B,MATCH(LEFT(I3,5)&MID(I3,FIND("年",I3,1)+2,LEN(I3)),[1]社消零额数据归集!$A:$A,0))/INDEX([1]社消零额数据归集!$C:$C,MATCH(LEFT(I3,5)&MID(I3,FIND("年",I3,1)+2,LEN(I3)),[1]社消零额数据归集!$A:$A,0))*100-100 -> -0.64102686 | J5: =INDEX([1]社消零额数据归集!$B:$B,MATCH(LEFT(J3,5)&MID(J3,FIND("年",J3,1)+2,LEN(J3)),[1]社消零额数据归集!$A:$A,0))/INDEX([1]社消零额数据归集!$C:$C,MATCH(LEFT(J3,5)&MID(J3,FIND("年",J3,1)+2,LEN(J3)),[1]社消零额数据归集!$A:$A,0))*100-100 -> -2.4523579 | K5: =INDEX([1]社消零额数据归集!$B:$B,MATCH(LEFT(K3,5)&MID(K3,FIND("年",K3,1)+2,LEN(K3)),[1]社消零额数据归集!$A:$A,0))/INDEX([1]社消零额数据归集!$C:$C,MATCH(LEFT(K3,5)&MID(K3,FIND("年",K3,1)+2,LEN(K3)),[1]社消零额数据归集!$A:$A,0))*100-100 -> -2.455088 | L5: =INDEX([1]社消零额数据归集!$B:$B,MATCH(LEFT(L3,5)&MID(L3,FIND("年",L3,1)+2,LEN(L3)),[1]社消零额数据归集!$A:$A,0))/INDEX([1]社消零额数据归集!$C:$C,MATCH(LEFT(L3,5)&MID(L3,FIND("年",L3,1)+2,LEN(L3)),[1]社消零额数据归集!$A:$A,0))*100-100 -> -2.4878115 | ... P5: =INDEX([1]社消零额数据归集!$B:$B,MATCH(LEFT(P3,5)&MID(P3,FIND("年",P3,1)+2,LEN(P3)),[1]社消零额数据归集!$A:$A,0))/INDEX([1]社消零额数据归集!$C:$C,MATCH(LEFT(P3,5)&MID(P3,FIND("年",P3,1)+2,LEN(P3)),[1]社消零额数据归集!$A:$A,0))*100-100 -> 0.47223281

Sheet Sheet3
